BEGIN:VCALENDAR
VERSION:2.0
PRODID:-//Tukios.com/
BEGIN:VEVENT
UID:c48055aa-3079-4054-9101-9234621e4f89@www.whitesmortuary.net
DTSTAMP:20260421T031910Z
DTSTART:20260424T200000Z
DTEND:20260424T220000Z
SUMMARY:Viewing
DESCRIPTION:
URL:https://www.whitesmortuary.net/obituaries/robert-lewis-jr
LOCATION: 517 N Guignard Dr  Sumter SC 29150
GEO:33.9340961;-80.3696825
END:VEVENT
END:VCALENDAR