BEGIN:VCALENDAR
VERSION:2.0
PRODID:-//Tukios.com/
BEGIN:VEVENT
UID:7a0c2630-f23e-47f8-b912-188321784e2d@www.whitesmortuary.net
DTSTAMP:20260421T031752Z
DTSTART:20260425T170000Z
DTEND:20260425T180000Z
SUMMARY:Celebration of Life
DESCRIPTION:
URL:https://www.whitesmortuary.net/obituaries/robert-lewis-jr
LOCATION: 805 S. Harvin Street  Sumter SC 29150
GEO:33.9056143;-80.3389659
END:VEVENT
END:VCALENDAR