BEGIN:VCALENDAR
VERSION:2.0
PRODID:-//Tukios.com/
BEGIN:VEVENT
UID:c405df25-3a39-466b-a06f-485cc4e10421@www.whitesmortuary.net
DTSTAMP:20260421T031508Z
DTSTART:20260425
SUMMARY:Burial
DESCRIPTION:
URL:https://www.whitesmortuary.net/obituaries/robert-lewis-jr
LOCATION:St Paul AME Church Cemetery (Shawfield) 1495 N Saint Pauls 
	Church Road  Sumter SC 29154
GEO:33.9418179;-80.451372
END:VEVENT
END:VCALENDAR