BEGIN:VCALENDAR
VERSION:2.0
PRODID:-//Tukios.com/
BEGIN:VEVENT
UID:6cfc126e-085b-410a-84a5-775c2da3b7c2@www.whitesmortuary.net
DTSTAMP:20260423T020652Z
DTSTART:20260424T190000Z
DTEND:20260424T220000Z
SUMMARY:Viewing
DESCRIPTION:
URL:https://www.whitesmortuary.net/obituaries/joe-scott
LOCATION: 517 N Guignard Dr  Sumter SC 29150
GEO:33.9340961;-80.3696825
END:VEVENT
END:VCALENDAR