BEGIN:VCALENDAR
VERSION:2.0
PRODID:-//Tukios.com/
BEGIN:VEVENT
UID:295233ef-dadc-46c2-899a-09cb58f919a0@www.whitesmortuary.net
DTSTAMP:20260423T020728Z
DTSTART:20260425T140000Z
DTEND:20260425T150000Z
SUMMARY:Celebration of Life
DESCRIPTION:
URL:https://www.whitesmortuary.net/obituaries/joe-scott
LOCATION:Victory Church of Sumter 5155 Patriot Parkway  Sumter SC 29154
GEO:33.9419699;-80.4819254
END:VEVENT
END:VCALENDAR