BEGIN:VCALENDAR
VERSION:2.0
PRODID:-//Tukios.com/
BEGIN:VEVENT
UID:4ee7966a-54a2-4886-9088-72e218e446b6@www.whitesmortuary.net
DTSTAMP:20260423T020523Z
DTSTART:20260425
SUMMARY:Interment
DESCRIPTION:
URL:https://www.whitesmortuary.net/obituaries/joe-scott
LOCATION: 802 N Guignard Dr  Sumter SC 29150
GEO:33.9393286;-80.376304
END:VEVENT
END:VCALENDAR